BEGIN:VCALENDAR
VERSION:2.0
PRODID:-//Colégio Madrid - ECPv6.2.0.1//NONSGML v1.0//EN
CALSCALE:GREGORIAN
METHOD:PUBLISH
X-WR-CALNAME:Colégio Madrid
X-ORIGINAL-URL:https://colegiomadrid.com.br
X-WR-CALDESC:Eventos para Colégio Madrid
REFRESH-INTERVAL;VALUE=DURATION:PT1H
X-Robots-Tag:noindex
X-PUBLISHED-TTL:PT1H
BEGIN:VTIMEZONE
TZID:America/Sao_Paulo
BEGIN:STANDARD
TZOFFSETFROM:-0300
TZOFFSETTO:-0300
TZNAME:-03
DTSTART:20230101T000000
END:STANDARD
END:VTIMEZONE
BEGIN:VEVENT
DTSTART;VALUE=DATE:20230220
DTEND;VALUE=DATE:20230221
DTSTAMP:20260421T200103
CREATED:20230301T002548Z
LAST-MODIFIED:20230301T002548Z
UID:164-1676851200-1676937599@colegiomadrid.com.br
SUMMARY:Carnaval 2023
DESCRIPTION:Carnaval 2023
URL:https://colegiomadrid.com.br/eventos/carnaval-2023/
LOCATION:Segunda Feira de Carnaval
CATEGORIES:Feriados
END:VEVENT
END:VCALENDAR